Workbook
Name ESP: #REF!
Name iincome: #REF!
Name iincome: #REF!
Name iincome: #REF!
Name iincome: #REF!
Name iincome: #REF!
Name income: #REF!
Name income: #REF!
Name income: #REF!
Name income: #REF!
Name income: #REF!
Name incomelevel: #REF!
Name incomelevel: #REF!
Name incomelevel: #REF!
Name incomelevel: 'Results Tracker (rev)'!$E$142:$E$144
Name incomelevel: #REF!
Name info: #REF!
Name info: #REF!
Name info: #REF!
Name info: 'Results Tracker (rev)'!$E$161:$E$163
Name info: #REF!
Name Month: [1]Dropdowns!$G$2:$G$13
Name overalleffect: #REF!
Name overalleffect: #REF!
Name overalleffect: #REF!
Name overalleffect: 'Results Tracker (rev)'!$D$161:$D$163
Name overalleffect: #REF!
Name physicalassets: #REF!
Name physicalassets: #REF!
Name physicalassets: #REF!
Name physicalassets: 'Results Tracker (rev)'!$J$161:$J$169
Name physicalassets: #REF!
Name quality: #REF!
Name quality: #REF!
Name quality: #REF!
Name quality: 'Results Tracker (rev)'!$B$152:$B$156
Name quality: #REF!
Name question: #REF!
Name question: #REF!
Name question: #REF!
Name question: 'Results Tracker (rev)'!$F$152:$F$154
Name question: #REF!
Name responses: #REF!
Name responses: #REF!
Name responses: #REF!
Name responses: 'Results Tracker (rev)'!$C$152:$C$156
Name responses: #REF!
Name state: #REF!
Name state: #REF!
Name state: #REF!
Name state: 'Results Tracker (rev)'!$I$156:$I$158
Name state: #REF!
Name Tracker: #REF!
Name type1: #REF!
Name type1: '[2]Results Tracker'!$G$146:$G$149
Name type1: #REF!
Name type1: 'Results Tracker (rev)'!$G$152:$G$155
Name type1: #REF!
Name Year: [1]Dropdowns!$H$2:$H$36
Name yesno: #REF!

Sheet Overview
D3: Project Performance Report (PPR)*
D4: * Refers to both projects and programs
C5: Period of Report (Dates) | D5: 28 October 2020 - 31st October 2021* | F5: * Please, note that the timeline has been extended to 31st of October to ease the financial reporting exercise. Also, on the 29th of October 2021 a contract was signed with an implementer for a value of +USD200k and we considered that it should be reflected in this reporting period instead of a year later. We hope this will be acceptable on your side. Thank you.
C7: Project Title: | D7: Special Financing Window in Support of Innovation for Adaptation
C13: Project Summary: | D13: The primary objective of this five-year programme is to support countries to test, evaluate, roll out and scale up innovative adaptation practices, products and technologies. It does so by providing micro-grants to eligible beneficiary countries (developing countries without direct access to Adaptation Fund grants). The micro-grants are used to support the development and diffusion of innovative adaptation practices, tools, and technologies through the provision of technical assistance by relevant CTCN network members. The Programme also facilitates information sharing and the exchange of best practices in order to support a learning mechanism for innovation in adaptation. The programme is expected to encourage and accelerate new innovations and strengthen evidence base on effective, efficient adaptation practices, products and technologies by enabling 30 countries to successfully develop and implement concept notes for the Adaptation Fund innovation micro-grants mechanism. Of these 30 countries, 15 would focus on innovative technologies and 10 countries would focus on strengthening technical and financial systems to accelerate adaption innovation and technology action. The programme will thus contribute to Expected Results 3 and 4 of the Adaptation Fund Medium Term Strategy 2018-2022.
H14: Countries | I14: Project Type: | K14: GEF Focal Area: | L14: GEF 4 Focal Areas | M14: GEF 2 / 3 Operational Programme: | N14: Overall Rating of the project in the evaluation by the project evaluator: | O14: GEF-4 Focal Area Strategic Program: | P14: GEF-3 Focal Area Strategic Program:
C15: Database Number: | D15: S1-32AFB-000012-SB-015479 | H15: Afghanistan | I15: FP | J15: Yes | K15: Biodiversity | L15: 1 | M15: 1 | N15: U | O15: BD-SP1-PA Financing | P15: 1: Arid & semi-arid ecosystems
B16: Implementing Entity (IE) [name]: | D16: United Nations Environment Programme (UNEP) | H16: Albania | I16: MSP | J16: No | K16: Climate Change Adaptation | L16: 2 | M16: 2 | N16: S | O16: BD-SP2-Marine PA | P16: 2: Coastal, marine & freshwater ecosystems
C17: Type of IE: | D17: Multilateral Implementing Entity (MIE) | H17: Algeria | I17: EA | K17: Climate Change Mitigation | L17: 3 | M17: 3 | N17: MU | O17: BD-SP3-PA Networks | P17: 3: Forest ecosystems
C18: Country(ies): | D18: Global | H18: Angola | K18: International Waters | L18: 5 | M18: 5 | N18: Good | O18: BD-SP5-Markets | P18: 13: Conservation and Sustainable Use of Biological Diversity Important to Agriculture
B19: Relevant Geographic Points (i.e. cities, villages, bodies of water): | D19: NA | H19: Argentina | K19: Multiple Focal Area | O19: BD-SP7-Invasive Alien Species(IAS) | P19: 6: Promoting the adoption of renewable energy by removing barriers and reducing implementation costs
M20: CC-SP2- Industrial EE | N20: 8: Waterbody based operational program
C21: Project Milestones | M21: CC-SP3-RE,CC-SP4-Biomass | N21: 9: Integrated Land and Water multiple focal area
C22: Milestone | H22: Bahamas | O22: CC-SP5-Transport | P22: 10: Contaminants based operational program
B23: AFB Approval Date: | D23: 43749
B25: IE-AFB Agreement Signature Date: | D25: 43964 | N25: CC-SP6-LULUCF | O25: 12: Integrated Ecosystem Management
B26: Start of Project/Programme: | D26: 44132 | N26: Cross cutting capacity building | O26: 14: Persistent Organic Pollutants
B27: Actual Mid-term Review Date (if applicable): | D27: 45047
C29: Original Completion Date: | D29: 45957
B30: Revised Completion Date after approval of
C31: extension request (if applic)
D33: List each approval condition, if any, and report on the status of meeting them (duplicate table as nec)
C34: Category of condition
C35: Condition or Requirement
C36: Current Status
C37: Planned actions, including a detailed time schedule
D40: List (only) inception report/ extension request(s)/ MTR that have been prepared for the project and provide date(s) of submission for each | H40: Cyprus
D41: Inception Report, 15 February 2021 | H41: Czech Republic
B42: List the Website address (URL) of project | H42: Democratic People's Republic of Korea
D43: https://www.ctc-n.org/afcia/unep-ctcn | H43: Democratic Republic of the Congo
H44: Denmark
C45: Project contacts: | H45: Djibouti
B46: National/Regional Project Manager/Coordinator | H46: Dominica
C47: Name: | D47: Saliha Dobardzic | H47: Dominican Republic
C48: Email: | D48: sdobardzic@adaptation-fund.org | H48: Ecuador
C49: Date: | H49: Egypt
B51: Government(s) DA [if regional project/program add rows as necessary]
H52: El Salvador
C53: Name: | D53: NA | H53: Equatoral Guinea
C54: Email: | H54: Eritrea
...

Sheet Financial Data (rev)
C3: Financial information PPR 1: cumulative from project start to 31st October 2021 | K3: Financial information PPR 2: cumulative from project start to [insert date] | S3: Financial information PPR 3: cumulative from project start to [insert date] | AA3: Financial information PPR 4: cumulative from project start to [insert date] | AI3: Financial information PPR 5: cumulative from project start to [insert date]
C7: DISBURSEMENT OF AF GRANT FUNDS | K7: DISBURSEMENT OF AF GRANT FUNDS | S7: DISBURSEMENT OF AF GRANT FUNDS | AA7: DISBURSEMENT OF AF GRANT FUNDS | AI7: DISBURSEMENT OF AF GRANT FUNDS
C8: How much of the total AF grant as noted in Project Document plus any project preparation grant has been spent to date? | K8: How much of the total AF grant as noted in Project Document plus any project preparation grant has been spent to date? | S8: How much of the total AF grant as noted in Project Document plus any project preparation grant has been spent to date? | AA8: How much of the total AF grant as noted in Project Document plus any project preparation grant has been spent to date? | AI8: How much of the total AF grant as noted in Project Document plus any project preparation grant has been spent to date?
C9: Estimated cumulative total disbursement as of 31 October 2021 | E9: 713900 | K9: Estimated cumulative total disbursement as of [enter Date] | S9: Estimated cumulative total disbursement as of [enter Date] | AA9: Estimated cumulative total disbursement as of [enter Date] | AI9: Estimated cumulative total disbursement as of [enter Date]
C10: Add any comments on AF Grant Funds. (word limit=200) | E10: To be noted: - As of 31st October, there are 3 concept notes contracted, and 8 AFCIA projects in the final stages of the selection and contracting process, from which 3 should start implementation by Q2.2022, and the remaining 5 during Q3.2022. - The total estimated amount for these 11 projects is USD 2,471,888.91. A change in the disbursement calendar has been prepared to reflect a more realistic map of activities and will be shared with the AF together with the revised PPR. Details on TA selected : On October 31st, a total budget of 583,063 USD has been contracted in order to implement 2 "Acceleration" projects and 1 "Enabling Environment" project. For the projects under the acceleration component, there is one in Burundi, and one in Saint Kitts and Nevis. The project implemented under the enabling environment component is in the Bahamas. | K10: Add any comments on AF Grant Funds. (word limit=200) | S10: Add any comments on AF Grant Funds. (word limit=200) | AA10: Add any comments on AF Grant Funds. (word limit=200) | AI10: Add any comments on AF Grant Funds. (word limit=200)
C12: INVESTMENT INCOME | K12: INVESTMENT INCOME | S12: INVESTMENT INCOME | AA12: INVESTMENT INCOME | AI12: INVESTMENT INCOME
C13: Amount of annual investment income generated from the Adaptation Fund’s grant | K13: Amount of annual investment income generated from the Adaptation Fund’s grant | S13: Amount of annual investment income generated from the Adaptation Fund’s grant | AA13: Amount of annual investment income generated from the Adaptation Fund’s grant | AI13: Amount of annual investment income generated from the Adaptation Fund’s grant
C15: EXPENDITURE DATA | K15: EXPENDITURE DATA | S15: EXPENDITURE DATA | AA15: EXPENDITURE DATA | AI15: EXPENDITURE DATA
C16: List ouput and corresponding amount spent for the current reporting period | E16: ITEM / ACTIVITY / ACTION | F16: AMOUNT | K16: List ouput and corresponding amount spent for the current reporting period | M16: ITEM / ACTIVITY / ACTION | N16: AMOUNT | S16: List ouput and corresponding amount spent for the current reporting period | U16: ITEM / ACTIVITY / ACTION | V16: AMOUNT | AA16: List ouput and corresponding amount spent for the current reporting period | AC16: ITEM / ACTIVITY / ACTION | AD16: AMOUNT | AI16: List ouput and corresponding amount spent for the current reporting period | AK16: ITEM / ACTIVITY / ACTION | AL16: AMOUNT
E17: 1.1 Communications Sp | F17: 12000
E18: 1.1 Translation Services | F18: 0
E19: 1.1 Printing | F19: 3134
E20: 1.1 Regional Liaison | F20: 8040
E21: 1.2 Grants to Network Members (concept note development) | F21: 0
E22: 1.2 Travel (related to concept note developm) | F22: 0
E23: 2.1 Grants to Network Members (implementation - innov & tech projects)* | F23: 0
E24: Burundi | F24: 214950
E25: Saint Kitts and Nevis | F25: 201553.91
E26: 2.1 Grants to Network Members (implementation - enabling env projects)* | F26: 0
E27: Bahamas | F27: 166560
E28: 3.1 Communications Sp | F28: 6000.01
... E36: 3.3 Travel | F36: 0
E37: Sub Total Component 1 to 3 | F37: =SUM(F17:F36) -> 620006.83
E38: EC.Prog. Manager | F38: 17000
E39: EC. Procurement Officer | F39: 0
E40: EC.Technical Specialist | F40: 6000
E41: EC.Office Equipment | F41: 0
E42: EC. Procurement Officer | F42: 0
E43: EC.Travel | F43: 0
E44: EC. Terminal Evaluation | F44: 0
E45: Sub total Execution costs | F45: =SUM(F38:F44) -> 23000
E46: Sub total Components and EC | F46: =F37+F45 -> 643006.83
E47: Implementing entity fee | F47: 63900
E48: TOTAL | F48: =F46+F47 -> 706906.83 | M48: TOTAL | N48: =SUM(N17:N44) -> 0 | U48: TOTAL | V48: =SUM(V17:V44) -> 0 | AC48: TOTAL | AD48: =SUM(AD17:AD44) -> 0 | AK48: TOTAL | AL48: =SUM(AL17:AL44) -> 0
C50: PLANNED EXPENDITURE SCHEDULE | E50: Note: This table includes the revised budget for year 2 plus the remaining unspent budget reported for year 1 | K50: PLANNED EXPENDITURE SCHEDULE | S50: PLANNED EXPENDITURE SCHEDULE | AA50: PLANNED EXPENDITURE SCHEDULE | AI50: PLANNED EXPENDITURE SCHEDULE
C51: List outputs planned and corresponding projected cost for the upcoming reporting period | E51: ITEM / ACTIVITY / ACTION | F51: PROJECTED COST | G51: Est. Completion Date | K51: List outputs planned and corresponding projected cost for the upcoming reporting period | M51: ITEM / ACTIVITY / ACTION | N51: PROJECTED COST | O51: Est. Completion Date | S51: List outputs planned and corresponding projected cost for the upcoming reporting period | U51: ITEM / ACTIVITY / ACTION | V51: PROJECTED COST | W51: Est. Completion Date | AA51: List outputs planned and corresponding projected cost for the upcoming reporting period | AC51: ITEM / ACTIVITY / ACTION | AD51: PROJECTED COST | AE51: Est. Completion Date | AI51: List outputs planned and corresponding projected cost for the upcoming reporting period | AK51: ITEM / ACTIVITY / ACTION | AL51: PROJECTED COST | AM51: Est. Completion Date
E52: 1.1 Communications Sp | F52: =F17 -> 12000 | G52: 44641
E53: 1.1 Translation Services | F53: 3000
E54: 1.1 Printing | F54: 866 | G54: 44804
E55: 1.1 Regional Liaison | F55: =F20 -> 8040
...

Sheet Risk Assesment
C3: RISK ASSESMENT
C7: IDENTIFIED RISKS
C8: List all Risks identified in project preparation phase and what steps are being taken to mitigate them
C9: Identified Risk | D9: Current Status | E9: Steps Taken to Mitigate Risk
C10: Delays in contracting Network Members may slow implementation | D10: Low | E10: • The use of UNON’s two-stage bidding process was agreed to for the recruitment of Implementing Partnerss (CTCN Network Members) for the implementation of UNEP CTCN AFCIA Technical Assistance projects. This well-established procurement process allows for contracting of Network Members to be efficiently planned within 2 to 3 months, without causing delays to the implementation schedule. *Risk level has been adjusted accordingly.
C11: Challenges in coordination between National Designated Entities (NDEs) and Adaptation Fund Designated Authorities (DAs) may impact the quality of submissions | D11: Low | E11: • Outreach and communication activities aiming at generating a common understanding of the project, asa well as on the roles of both NDEs and DAs, are being conducted successfully. • Joint discussions between PP, NDE, DA are being encouraged and often facilitated by CTCN during the development of project concept notes, and as TA projects start implementation.
C12: The lack of enabling environment to encourage and support innovation limits national buy-in | D12: Low | E12: • At the project concept note development stage, engagement of national designated entities to the technology mechanism (NDEs) and national focal points to the Adaptation Fund (DAs) is encouraged, allowing for greater national ownership and for a better understanding of the importance of innovative adaptation technologies. • All project proposals to be implemented by Network Members include costed capacity building activities for national counterparts and key stakeholders, using different modalities depending on the project.
C13: Not enough high quality requests are received | D13: Low | E13: • A communication strategy/outreach plan is being implemented. Potential project proponents are encouraged to work with NDE and DA, and receive technical support from CTCN during early stages of development of technology concepts and of project concept notes to enhance the quality of submissions.
C14: Transformational change cannot be achieved through micro-grants | D14: Low | E14: • Eligibility and prioritization criteria are systematically applied during evaluation of submissions and ensure that the micro-grants are linked to national plans and consistent with NDCs, NAPs and other relevant commitments. • CTCN technical advice/support provided at early stages of development of the technology concept aims to strengthen these linkages and the quality of requests received, as well as the potential for transformational change of these projects. • Support is scheduled to be provided to prepare proposals for scaled up investment through the Adaptation Fund full size innovation window or other relevant financing mechanisms. *Mitigation measures have been put in place, and risk level has been adjusted accordingly.
C15: Gender considerations are not adequately taken into account during the design and implementation of innovation grant. | D15: Low | E15: • UNEP ESS screening is being applied (after the initial selection of the technology concepts) during the development of the concept notes. The selection of technology concepts is based on other eligibility and prioritization criteria which are approved by the Advisory Board of the CTCN under the technology mechanism of the climate convention. • CTCN Gender Mainstreaming Tool (Gender Toolkit) is being applied. • IPs/Network Members are required to report on gender indicators. • IPs are further required to include in their proposals at least one gender expert and allocate a minimum of 1% of total budget to gender activities.
C16: Funding for scaled up implementation is not available | D16: Low | E16: • CTCN eligibility and prioritization criteria include market-based criteria which helps select innovation technology concepts with the greatest chance to scale up. • Project concept notes are designed aiming at enhancing the potential for scale up innovations supported through the projects, requiring IPs/Network Members to provide information on financing mechanisms and/or costed actions plans for upscaling. *Mitigation measures have been put in place, and risk level has been adjusted accordingly.
C17: Innovations trigger mal-adaptation | D17: Low | E17: • UNEP ESS screening is being applied • Project concept notes are developed to avoid potential maladaptation risks and include robust M&E frameworks that are applied throughout project implementation.
C22: Critical Risks Affecting Progress (Not identified at project design)
C23: Identify Risks with a 50% or > likelihood of affecting progress of project
C24: Identified Risk | D24: Current Status | E24: Steps Taken to Mitigate Risk
C25: Covid-19 risk | D25: Medium - The situation is ever evolving with sporadic improvements and deterioration depending on the vaccination and other factors. | E25: The IP/Network Member will engage local consultants with previous experience with relevant local stakeholders to facilitate flow of information. Data collection will be performed adhering to applicable Health &Safety rules in the country at the moment. CTCN will provide tools for remote collaboration and engagement. Unused travel budget may be repurposed to complement remote collaboration tools or additional related costs stemming from Covid-19 situation.
C26: Political Risks | D26: Low - Situation in some countries in Africa, Asia and the SIDs is unpredictable. | E26: The focal points (NDE, DA) and the CTCN have established a good working relationships and communication channels. UNEP field and regional office may be used should emergency communications be needed.
C27: Force Majeure | D27: Low - Situation in some countries in Africa, Asia and the SIDs is unpredictable. | E27: IP/Network Members are following the guidance below as they implement AFCIA projects: - Defining a well-structured working plan and an adapted monitoring system to follow up closely any potential issues which might delay the implementation of this readiness - Ensuring a timely updates, with regular meetings between the IP and the NDE/DA to plan and scrutinize well in advance all potential and upcoming obstacles (e.g. defining urgency procedures to overcome delay of disbursement) - Providing suitable means to shift to adaptable modes of work, for example virtual meetings (e.g. training and providing internet package to local targeted stakeholders).
C31: Risk Measures: Were there any risk mitigation measures employed during the current reporting period? If so, were risks reduced? If not, why were these risks not reduced?
C32: Add any comments relevant to risk mitigation (word limit = 500)
C33: The risk measures indicated above have been put in place and are found to have reduced the risk level to ´low´, where risks had been identified as ´medium´ at preparation phase

Sheet ESP Compliance (rev)
C3: ENVIRONMENTAL AND SOCIAL POLICY COMPLIANCE
C6: SECTION 1: IDENTIFIED ESP RISKS MANAGEMENT
C8: Was the ESP risks identification complete at the time of funding approval? [1]
C10: ESP principle [2] | D10: Are environmental or social risks present as per table II.K (II.L for REG) of the proposal? [3] | E10: During project/programme formulation, an impact assessment was carried out for the risks identified. Have impacts been identified that require management actions to prevent unacceptable impacts? (as per II.K/II.L) [4] | F10: List the identified impacts for which safeguard measures are required (as per II.K/II.L) | G10: List here the safeguard measures (i.e. avoidance, management or mitigation) identified for each impact that are supposed to be (or had to be) implemented during the reporting period. Please break down the safeguard measures by activity. [5] | H10: List the monitoring indicator(s) for each impact identified. [6] | I10: State the baseline condition for each monitoring indicator | J10: Describe each safeguard measure that has been implemented during the reporting period [7] | K10: Describe the residual impact for each impact identified - if any - using the monitoring indicator(s) [7] | L10: Describe remedial action for residual impacts that will be taken. [7]
C11: 1 - Compliance with the law
C12: 2 - Access and equity
C13: 3 – Marginalized and vulnerable Groups
C14: 4 – Human rights
C15: 5 – Gender equality and women’s empowerment
C16: 6 – Core labour rights
C17: 7 – Indigenous peoples
C18: 8 – Involuntary resettlement
C19: 9 – Protection of natural habitats
C20: 10 – Conservation of biological diversity
C21: 11 – Climate change
C22: 12 – Pollution prevention and resource efficiency
... C28: SECTION 2: MONITORING FOR UNANTICIPATED IMPACTS / CORRECTIVE ACTIONS REQUIRED
C30: Has monitoring for unanticipated ESP risks been carried out? | E30: YES, SRIF have been prepared and approved by UNEP.
C31: Have unanticipated ESP risks been identified during the reporting period? | E31: NO
C32: If unanticipated ESP risks have been identified, describe the safeguard measures that have been taken in response and how an ESMP has been prepared/updated
C35: SECTION 3: CATEGORISATION
C37: Is the categorisation according to ESP standards still relevant?
C38: If No, please describe the changes made at activity, output or outcome level, approved by the Board, that resulted in this change of categorization. | E38: There was no categorization of the safeguards risk of this project because it would depend on the micro grants identified (USPs)
C41: SECTION 4: IMPLEMENTATION ARRANGEMENTS
C43: What arrangements have been put in place by the Implementing Entity during the reporting period to implement the required ESP safeguard measures? | E43: SRIF have been approved by the UNEP ES Safeguard Officer .
C44: Have the implementation arrangements been effective during the reporting period?
C45: What arrangements have been put in place by each Executing Entity during the reporting period to implement the required ESP safeguard measures? | E45: CTCN as the Executing Entity for the AFCIA program has followed UNEP Environmental and Social Sustainability Framework (ESSF, approved in February 2020) and related guidance on Environmental and Social Safeguards and Stakeholder Response mechanisms, in alignment with relevant UN EMG guidance and with that its partners such as the Adaptation Fund. The following arrangements have been put in place by CTCN during the reporting period: • CTCN has ensured that, during its review and screening , AFCIA submissions where eligibility and prioritization criteria applied. Due consideration was given to the identification of potential environmental and social risks and impacts associated with the proposed activities, as per UNEP´s ESSF. Assignment of a risk category to AFCIA projects, as per UNEP guidance and in consultation with UNEP´s ES Safeguard Advisor, takes into consideration a range of factors, including the nature, type, scale and duration of project activities. Thus far, only AFCIA submissions deemed of Low ESS risk were made eligible and prioritized under the AFCIA program. • CTCN has also used UNEP´s ES principles and safeguards to strengthen the sustainability of the prioritized submissions, while working with Project Proponents, Designated National Authorities (NDEs), DNAs, during the design of AFCIA project concept notes. • CTCN also follows UNEP´s procedures on stakeholder response mechanisms to ensure greater sustainability and accountability in the implementation of AFCIA projects, as it relates to project´s compliance with ESSF and safeguard standards. As AFCIA project implementation is now commencing, and as per UNEP procedures, dissemination of ESS safeguards and avenues to access the stakeholder response mechanisms will now be disseminated locally, including through discussions during consultation workshops. Local project level stakeholder response mechanisms (including grievance review and redress mechanisms) will be set up as needed, in consultation with stakeholders, and a stakeholder response/grievance focal person will be designated. Procedures to access the Independent Office for Stakeholder Safeguard-related Response (IOSSR) will also be communicated to stakeholders.
C46: Have the implementation arrangements at the EEs been effective during the reporting period? | E46: Yes. The arrangements put in place have been proven effective thus far, and have contributed in some projects to strengthen the design of project concept notes. It is noted, however, that the first AFCIA TA/micro-grant projects have just been signed at the end of the reporting period, thus implementation is not yet fully underway. CTCN will continue to monitor effectiveness of the arrangements put in place to ensure compliance with ESP and will further report in the next reporting period.
C49: SECTION 5: PROJECTS/PROGRAMMES WITH UNIDENTIFIED SUB-PROJECTS (USPs). This section needs to be completed only if the project/proramme includes USPs.
C51: Have the arrangements for the process described in the ESMP for ESP compliance for USPs been put in place? [8]
C52: Is the required capacity for ESMP implementation present and effective with the IE and the EE(s)? Have all roles and responsibilities adequately been assigned and positions filled? Please provide details. | E52: CTCN follows UNEP ESSF (aligned with AF ESP). Capacity and arrangements are in place, and procedures and roles defined, as per UNEP´s guidance, and in alignment with roles and responsibilities for CTCN´s delivery of Technical Assistance services. Improvements will be put in place as needed, based on lessons learned with the implementation of the first AFCIA TA projects. After the initial selection of the technology concepts based on the eligibility and prioritization criterion of the CTCN which is approved by the Advisory Board of the CTCN, ESS analysis including responses/mitigating measures is initiated. This would be approved by the UNEP safeguard officer.
C53: Has the overall ESMP been updated with the findings of the USPs that have been identified in this reporting period? [9] | E53: N/A
C55: List each USP that has been identified in the reporting period to the level where effective ESP compliance is possible. Add lines as necessary, one line for every USP identified. | D55: Has the ESMP been applied to the USP that has been identified? | E55: List all the ESP risks that have been identified for the USP | F55: Has an impact assessment been carried out for each ESP risk that has been identified for the USP? | G55: Has adequate consultation been held during risks and impacts identification for the USP? [10] | H55: Have the data used to identify risks and impacts been disaggregated by gender as required? | I55: List the environmental and social safeguard measures (avoidance, mitigation, management) that have been identified for the USP | J55: List the monitoring indicator(s) for each impact identified
C56: USP 1: [Burundi] Easily deployable water-filled flood barrier that can be used to prevent damage from flooding and to store water vapor-tight to ensure water availability in times of drought | D56: As indicated in section 5 above and as per UNEP ESSF (2020), CTCN has undertaken the ESS anlalysis, with Safeguards Risk Identification Form (SRIF) to be submitted to the UNEP ES Safeguard Officer for approval. | E56: SS 2: Climate Change and Disaster Risks: A/The selected area is expected to suffer floods and drought time as it has occurred in the past. The frequency of floods and drought are expected to increase due to climate change. This technology, is found feasible, would lead to building resilience of the local communities. B/There are local communities vulnerable to the impacts of climate change and disaster risks (e.g. considering level of exposure and adaptive capacity). | F56: Yes, a Safeguard Risk Idendification Form (SRIF) has been drafted in line with the UN Environment's Environmental, Social and Economic Sustainability Framework and approved by UNEP Safeguard Advisor | G56: The project has analysed and has identified stakeholders who are going to be positively or negatively impacted by the project implementation in consultation with the Director´s office of the Environment and Climate Change Ministry of Environment, Agriculture and Livestock as well as with Burundi Geographic Institute. The participation of women and youth will be proactively ensured throughout the implementation as per UN/CTCN rules. Representative of the pilot sites have been involved through the Ministry and Institute. Local communities have been informed and consulted to identify the potential risks/impacts of the project on their livelihoods, rights, wellbeing at very early stage of the process, and during the definition of the project. The selected area will be supervising the project implementation by being part of the stakeholder´s working group in charge of driving the decision process during the implementation. | H56: Yes, the data used to identify and monitor the risks identfied and expected impacts are disaggregated by gender. As per the CTC-N guidelines approved by the Advisory Board under Climate Convention, a fixed percentage of the project costs are going to gender and youth. | I56: This adaptation project is a mitigation measure to the Climate Change and Disaster Risks as it will test, in a pilot commune,, the impact that a mobile flood barrier could have in Burundi to protect both the population than the agriculture sector against flood and drought. Such technology, if suitable, would lead to buiding the resilience of the local communities. | J56: A/ Hectares of lands subjected to natural hazards that have increased their resilience to drought. B/Number of vulnerable groups (disaggregated by gender) for which the resilience will increase as a consequence of the TA.
C57: USP 2: [Saint Kitts and Nevis] Increase the water supply system resilience by managing aquifers recharge (MAR) and incorporating drought risks modelling as a planning tool for climate change adaptation measures | D57: As indicated in section 5 above and as per UNEP ESSF (2020), CTCN has undertaken the ESS anlalysis, with Safeguards Risk Identification Form (SRIF) to be submitted to the UNEP ES Safeguard Officer for approval. | E57: SS 2: Climate Change and Disaster Risks A/areas that are now or are projected to be subject to natural hazards such as extreme temperatures, earthquakes, extreme precipitation and flooding, landslides, droughts, severe winds, sea level rise, storm surges, tsunami or volcanic eruptions in the next 30 years. The selected area is expected to suffer dry spells and drought conditions, high flooding and landslides, as it has occurred in the past. | F57: Yes, a SRIF has been drafted in line with the UN Environment's Environmental, Social and Economic Sustainability Framework and approved by UNEP Safeguard Advisor | G57: In consultation with national stakeholders, the Department of Environment, Ministry of Environment and Cooperatives of the government of SKN, water services providers, departments responsible for water resource management and economic development and water users, the project has analyzed and identified stakeholders who would be positively or negatively impacted by the project implementation. The participation of women and youth will be proactively ensured throughout the implementation as per UN/CTCN rules. Representative of the pilot sites have been involved through the Ministry and Institute. Local communities have been informed and consulted through the local representative and a project briefing note has been published by the Department of Environment SKN in January 2022 | H57: Yes, the data used to identify and monitor the risks identfied and expected impacts are disaggregated bu gender. As per the CTC-N guidelines approved by the Advisory Board under Climate Convention, a fixed percentage of the project costs are towards gender and youth. | I57: The objective of the project is to improve the use of water resources in SKN, by incorporating drought risk modeling as a planning tool for climate change adaptation measures. The Technical assistance will i) assess drought risk and water resources in SKN, ii) benchmark, design and implement a drought prevention model, iii) train national officers in the use of the drought prevention model in SKN. This project is a adaptation measure to CC and Disaster Risks as it will provide a decision tool to SKN to plan better the use of water in time of drought. | J57: A/Hectares of lands subjected to natural hazards that have increased their resilience to drought and flood.
C58: USP 3: [Bahamas] Developing a national framework for the standardization of stalls and procedures for a climate smart street side vendor in the Bahamas | D58: As indicated in section 5 above and as per UNEP ESSF (2020), CTCN has undertaken the ESS anlalysis, with Safeguards Risk Identification Form (SRIF) to be submitted to the UNEP ES Safeguard Officer for approval. | E58: SS 2: Climate Change and Disaster Risks SS 6: Displacement and Involuntary Resettlement A/areas that are now or are projected to be subject to natural hazards such as extreme temperatures, earthquakes, extreme precipitation and flooding, landslides, droughts, severe winds, sea level rise, storm surges, tsunami or volcanic eruptions in the next 30 years. Bahamas is highly vulnerable to extreme climate events such as hurricanes. B/Full or partial physical displacement or relocation of people (whether temporary or permanent). The project will develop a framework and feasibility study to implement standardization of stalls and a sustainable program for the establishment of open green spaces for Street Side Vendors, with the aim of reallocating street-side vendors from unsafe locations to open green spaces, to organize the informal sector of the economy into a more formalized sector. | F58: Yes, a SRIF has been drafted in line with the UN Environment's Environmental, Social and Economic Sustainability Framework and approved by UNEP Safeguard Advisor | G58: The project has analyzed and has identified stakeholders who are going to be positively or negatively impacted by the project implementation in consultation with the Ministry of Agriculture and Marine Resources (MAMR). The MAMR is designated to implement a sustainable development plan for street side vendors, and the technical assistance will contribute to the implementation of this initiative. The participation of women and youth will be proactively ensured throughout the implementation as per UN/CTCN rules. Local communities and governmental entities have been informed and consulted to identify the potential risks/impacts of the project on their livelihoods, rights, wellbeing at very early stage of the process, and during the definition of the project through the Ministry of Agriculture and Marine Resources (MAMR). | H58: Yes, the data used to identify and monitor the risks identfied and expected impacts are disaggregated by gender. As per the CTCN guidelines approved by the Advisory Board under Climate Convention, a fixed percentage of the project costs are going to gender and youth. | I58: During the last years, efforts have been made in The Bahamas to implement activities to help the informal street-side vendors to be part of the formal economy. However, this has become an uncontrollable problem that not only threatens the health of the consumers of street food but also pollutes the environment by not taking measures to make their job sustainable. The organization of street vendors and incorporating them into the formal sector is crucial work to strengthen their capabilities to face climate challenges. This adaptation project is a mitigation measure to the CC and Disaster Risks as the overall objective of the Technical Assistance (TA) is to build resilience in the agricultural sector to improve food distribution, and to an extent, improve food security. With regards to the SS6, this project is intended to support the organization of the informal sector of the economy into a more formalized sector. The TA will formulate a framework for an open market spaces that will provide vendors with renewable energy source electricity, waste disposal facilities, water to clean up, and complete infrastructure with energy efficiency to fill their needs. In addition, green open market spaces will include a storage facility with a freezing facility, so that the food is not wasted, increasing shell life. Finally, a Business model for open green spaces/markets to function effectively will de drafted, including a proposal on what should be the governance structure and policies to lead the vendors towards these areas. The open green market spaces will contribute to improved social and environmental conditions for the community. Mitigation measures to limit the negative impact of a displacement are ensured through stakeholders consultations with the future users, and thge engagement of the street -vendors during the implementation of the project. | J58: A/Hectares of lands subjected to natural hazards that have increased their resilience to drought and flood. B/Nº of reallocated street-side vendors (disaggregated by gender) and satisfactory survey of the displaced street vendors.
C61: SECTION 6: GRIEVANCES
C63: Was a grievance mechanism established capable and known to stakeholders to accept grievances and complaints related to environmental and social risks and impacts?
C65: List all grievances received during the reporting period regarding environmental and social impacts; gender related matters; or any other matter of project/programme activities [11] | E65: For each grievance, provide information on the grievance redress process used and the status/outcome
C66: No grievances have been received (AFCIA project implementation are scheduled to start soon, though after the reporting period). As implementation begins, project specific grievance mechanisms will be designed and agreed with stakeholders, in addition to UNEP´s grievance mechanism. | E66: No grievance received so far.

Sheet GP Compliance (rev)
C3: GENDER POLICY COMPLIANCE
C6: SECTION 1: QUALITY AT ENTRY [to be completed only at PPR1]
C8: Was an initial gender assessment conducted during the preparation of the project/programme's first submission as a full proposal? | E8: No, the project includes USPs
C9: Does the results framework include gender-responsive indicators broken down at the different levels (objective, outcome, output)?
C11: List the gender-responsive elements that were incorporated in the project/programme results framework
C12: Gender-responsive element [1] | D12: Level [2] | E12: Indicator | F12: Baseline | G12: Target | H12: Rated result for the reporting period (poor, satisfactory, good)
C17: SECTION 2: QUALITY DURING IMPLEMENTATION AND AT EXIT [to be completed at final PPR]
C19: List gender equality and women's empowerment issues encountered during implementation of the project/programme. For each gender equality and women's empowerment issue describe the progress that was made as well as the results. [3]
C20: Gender equality and women's empowerment issues [4] | E20: Rated result for the reporting period (poor, satisfactory, good)
C21: No issues have been encountered as implementation of AFCIA TA micro-grant projects (USPs) have yet to start.
C25: SECTION 3: IMPLEMENTATION ARRANGEMENTS
C27: What arrangements have been put in place by the Implementing Entity during the reporting period to comply with the GP | E27: The expressions of interest to participate in the micro-grants innovation programme, as determined by the submission of a signed request form will result in the long listing of 30 technology concepts. The long list will be identified from a wide range of developing countries and analysed against criteria such as appropriateness, effectiveness, efficiency, gender responsiveness, and cost. All requests will need to demonstrate concrete adaptation action as defined by the number of people with reduced vulnerability to climate change, the number of new adaptation approaches launched, and the amount of funding for adaptation innovation leveraged. Selcetion Criteria (each criteria met counts as one point) 1. The request has a clear and positive benefit to the requesting country in adapting to the negative effect of, climate change. 2. The request enhances endogenous capacities. 3. The request demonstrates “project readiness” and has the potential for replication or scaling up 4. The request enables leveraging of public and/or private financing 5. The request promotes and demonstrates social and economic benefits 6. The request promotes and demonstrates gender equality, and empowerment of vulnerable groups, including women and youth Among the requests received, the top 10 scoring requests from each region (Africa, Asia and Pacific, and Latin America and the Caribbean), making 30 proposals, will move on to the next round of support as provided through Output 1.2. During the implementation, stakeholder consultations will seek to ensure balanced gender representation. The team of experts from the Network Partner of the CTCN will be requested to include gender experts in the field of adaptation. Finally, key considerations across all technical assistance include gender responsiveness. As such technical assistance must include a minimum of 1 percent of the budget allocated for gender specialists and consultations. All technical assistance must also apply the gender tool to ensure the gender responsiveness of activities.
C28: Have the implementation arrangements at the IE been effective during the reporting period? | E28: Yes. Criteria on Gender equality and empowerment of vulnerable groups, including women and youth has been applied during the selection process of the concept ideas. Gender indicators have been defined to monitor the implementation of each selected project. These indicators will be analysed at closure of the project, in the closure report.
C29: What arrangements have been put in place by each Executing Entity during the reporting period to comply with the GP? [5] | E29: CTCN has robust gender procedures in place to mainstream gender from the early start of the discussion of the TA requests and the design of project concept notes, through implementation and monitoring of impacts on gender equality and women empowerment. Key tools and procedures already in place and used in developing and implementing AFCIA TA micro/grant projects include: • CTCN screening and prioritization criteria applied to all TA assistance projects (including AFCIA projects), include gender equality and women empowerment criteria, and are aligned with UNEP ESSF • CTCN Gender Mainstreaming Tool is being applied • IPs/Network Members are required to report on gender indicators, and provide gender disaggregated data where applicable • IPs are further required to include in their proposals at least one gender expert and allocate a minimum of 1% of total budget to gender activities.
C30: Have the implementation arrangements at the EE(s) been effective during the reporting period? [5] | E30: Yes. The following Gender indicator have been selected in the Monitoring and Evaluation Plan for each selected project under implementation. BURUNDI OBJECTIVE 1: Reduce vulnerability and increase resilience to climate-induced flooding and drought through innovation and technology transfer for climate change adaptation with the following indicators: a) Total no. of direct beneficiaries with diversified and strengthened livelihoods and sources of income, disaggregated by male, female, ederly, children. b) Reduction in No. people displaced / migrated: . Estimate the flooded area and waterdepth and perform a fieldvisit to determine the number of females who have been protected from the flood OBJECTIVE 2: Strengthen community resilience and local capacity building to increase prosperity at Rubira Hills, Musenyi area of Mpanda Commune in Bubanza, Burundi c) Total no. of direct beneficiaries from more resilient physical and natural assets disaggregated by make and female d) People are trained and informed regarding climate change impacts disaggregated by male and female trained. BAHAMAS a) Anticipated number of direct and indirect beneficiaries as a result of the TA b) Number of participants in events, workshops, capacity building, stakeholder consultation disaggregated by gender. SAINT KITTS AND NEVIS a) Anticipated number of direct and indirect beneficiaries as a result of the T b) Number of participants in events, workshops, capacity building, stakeholder consultation disaggregated by gender.
C31: Have any capacity gaps affecting GP compliance been identified during the reporting period and if so, what remediation was implemented? | E31: No
C34: SECTION 4: GRIEVANCES
C36: Was a grievance mechanism established capable and known to stakeholders to accept grievances and complaints related to gender equality and women's empowerment? [to be completed at PPR1]
C37: List all grievances received through the grievance mechanism during the reporting period regarding gender-related matters of project/programme activities [6] | E37: No grievances have been received (AFCIA project implementation will commence at the end of the reporting period). As implementation begins, project specific grievance mechanisms will be designed and agreed with stakeholders, in addition to UNEP´s grievance mechanism.

Sheet ESP and GP Guidance notes
C3: ESP and GP Guidance Notes
C5: ENVIRONMENTAL AND SOCIAL POLICY
C7: Reference | D7: Guidance
C8: 1 | D8: The ESP requires that environmental and social risks are identified for all project/programme activities prior to funding approval. When not all the project/programme activities have been sufficiently formulated at that time so that adequate risks identification is possible, then the ESP risks identification is not complete.
C9: 2 | D9: Complete this section for all the ESP risks that have been identified, not taking into account any USPs
C10: 3 | D10: The project proposal includes an overview table of identified environmental and social risks (Section II.K of the proposal, Section II.L for regional projects). For each of the 15 principles of the ESP, please copy here the findings on the presence or absence of risks by ticking the corresponding box.
C11: 4 | D11: Only complete for those ESP principles for which risks were identified
C12: 5 | D12: The safeguard measures that must be implemented during a project/programme are normally described in detail in the ESMP of the project/programme
C13: 6 | D13: See the monitoring plan in the ESMP
C14: 7 | D14: For the first PPR report of the project/programme, this column needs to be completed with full information. For subsequent PPR reports, an update of the information previously provided is sufficient.
C15: 8 | D15: The case being, please include details on the planned timing to have all the USP implementation arrangements in place.
C16: 9 | D16: Please submit the updated ESMP together with the PPR
C17: 10 | D17: Clarify also if the grievance mechanism has been made widely known to identified and potentially affected parties
C18: 11 | D18: If any grievances were received that must not be made public, please inform the AF Secretariat of such grievances, detailing the reasons for them to remain confidential. Conficential information may be redacted by the IE in the report.
C20: GENDER POLICY
C22: Reference | D22: Guidance
C23: 1 | D23: Add lines as appropriate, one line for each gender-responsive element
C24: 2 | D24: Objective, outcome, output
C25: 3 | D25: Risks related to gender equality and women's empowerment should be reported in the ESP compliance tab
C26: 4 | D26: Add lines as appropriate, one line for each issue
C27: 5 | D27: Add lines as appropriate, one line for each executing entity
C28: 6 | D28: If any grievances were received that must not be made public, please inform the AF Secretariat of such grievances, detailing the reasons for them to remain confidential. Confidential information may be redacted by the IE in the report. This section will not be published on the AF webiste.

Sheet Rating
C3: RATING ON IMPLEMENTATION PROGRESS
C4: For rating definitions and text of AF outcomes please see bottom of page.
C5: Click above the columns captions in every table for guidance on reporting.
D7: Project components/outcomes | F7: Alignment with AF outcome(s) | H7: Expected Progress | J7: Progress to Date | K7: Rating
C8: Implementing Entity: | D8: Component 1: Outreach and sourcing of innovation micro-grant proposals Outcome 1: The innovation micro-grants mechanism is launched and partnerships for accessing the Adaptation Fund innovation mechanism are accelerated | F8: Outcome 8 | H8: Inception report and project workplan Launch workshop / inception workshop First two calls for proposal launched and a total of 18 applications selected (6+12) 6 concept notes fully developed | J8: Virtual inception workshop: 28 October 2020 (186 participants) Virtual UNEP/CTCN/UNDP joint launch event: 18 November 2020 (743 participants two events) First call for application: 18 November 2020 – 31 January 2021 (71 application received, 47 assessed, 5 selected) Second call for application: February 2021 – April 2021 (134 application received, 57 assessed, 6 selected) 11 concept notes fully developed | K8: S
D9: Component 2: Micro-grants support the development and diffusion of innovative adaptation practices, tools, and technologies Outcome 2.: Adaptation innovation and technology incubation and acceleration supported by government structures and processes | F9: Outcome 8 | H9: 6 CTCN members selected | J9: 3 CTCN members have been contracted, the 8 others are at different stage of the process (from contract signing, bidding process ongoing or response plan preparation). 3 projects were signed in 2021, 3 are expected to start in Q2.2022, 5 are expected to start in Q2.2022. | K9: S
D10: Component 3: Concrete adaptation actions are triggered by the knowledge and evidence produced by the micro-grant mechanism Outcome 3: Experiences from the micro-grant innovation mechanism lead to scaled-up funding | F10: Outcome 8 | H10: Outreach/communication plan Project dashboard Sharing and disseminating lessons learned and good practices included on the project dashboard Communication material developed | J10: Project communication strategy developed Website launched Project brochure developed AFCIA regional webinarsorganized to share lessons learned on first call for proposal: 13 April 2021 for Asia-Pacific and LAC regions, and 4 May 2021 for Africa region. | K10: S
J11: Overall Rating | K11: S
D13: Please Provide the Name and Contact information of person(s) reponsible for completeling the Rating section
D14: Name: | E14: Jessica Troni. UNEP Adaptation Portfolio Manager and Head of Climate Change Adaptation Unit
D15: Email: | E15: jessica.troni@un.org
C17: Please justify your rating. Outline the positive and negative progress made by the project since it started. Provide specific recommendations for next steps. (word limit=500)
D18: Project implementation is well on track based on initial workplan. The high number of applications received for the two first call for proposals shows the large interest and need of countries for adaptation-related technical assistance. It also shows a good communication and outreach from the programme. LDCs and SIDs are well represented among proposals submitted and selected. Overall quality of the proposals (technology concept stage) received can still be improved through continued capacity building and support before submission. Stakeholders beyound CTCN focal points and governments will be encouraged and supported to apply to the third call for proposal so do stakdholders from Latin America and the Caribeean region. Some of the good proposal received but not selected by AFCIA have been picked up by CTCN to join the normal pipeline and benefit from appropriate adaptation technical support. Lessons learned of the first call for proposal have been compiled and used to inform the second call for proposal. The same will be done for the third call as well as for project implementation. Environmental and Soial Assessment (Safeguard Identification Form) and management plan (if necessary) will be devleped for each selected project before implementation starts
D23: Project components/outcomes | F23: Alignment with AF outcome(s) N/A | H23: Expected Progress | J23: Progress to Date | K23: Rating
C24: Executing Entity/Project Coordinator: | D24: Component 1: Outreach and sourcing of innovation micro-grant proposals | H24: • Outreach plan developed for 70 countries in the programme • The first (6) project concept notes for Adaptation Fund innovation micro-grants mechanism are ready for financing, aiming at achieving geographical balance and prioritizing LDCs and SIDS. | J24: • A Communication Strategy and Outreach Plan was developed and is being implemented. A significant number of AFCIA outreach and dissemination events and initiatives have reached over 80 countries. These include: - Inception Wrokshop (28/10/2020) and Joint Launch of AFCIA Programme (18/11/2020); - Outreach among participants in Youth and women’s climate change initiatives via CTCN Youth Climate Innovation Labs and Gender-Just Climate Solutions programmes; - AFCIA regional webinars (13 April 2021 for Asia-Pacific and LAC regions; 4 May 2021 for Africa region) - CTCN Regional Forums for the NDEs in 2021 (held during the Regional Climate Weeks 2021) • From approximately 200 submissions in the first 2 calls for AFCIA technology concepts, 11 project concept notes have been developed in the reporting period, with 3 signed during this reporting period. This first group of 11 countries to access the innovation micro-grants AFCIA mechanism is geographically balanced (5 countries in Africa, 3 in Asia and 3 in LAC per region) and majority LDC/SIDS (9 out of 11). | K24: HS
D25: Component 2: Micro-grants support the development and diffusion of innovative adaptation practices, tools and technologies | H25: • In the reporting period, it was expected that the process to select the Implementing Partners/Network Members for the implementation of promising Adaptation Innovations and Technologies technical assistance projects is set in place and that selection of IPs/NM for the first AFCIA projects is being finalized (with the selection of a total of 15 countries by the end of the programme) | J25: • IPs/Network Members´ selection for the first AFCIA projects is being finalized, with 3 projects have been contracted in this reporting period, and 8 expected to start implementation in 2022. | K25: S
D26: Component 3: Concrete adaptation actions are triggered by the knowledge and evidence produced by the micro-grant mechanism | H26: • This component is not scheduled to fully start during this reporting period (as no adaptation innovations and technologies technical assistance projects have been implemented), though some initial preparatory work to allow for knowledge sharing related to AFCIA programme is expected. | J26: • A dedicated webpage for the UNDP CTCN AFCIA programme has been set up, together with a specific window within the project dashboard where TA requests and project concept notes are continuously uploaded, supporting project management, monitoring and reporting, and knowledge management functions. • Countries can now access eligible and prioritized AFCIA TA requests and proposals online (within the reporting period, 11 AFCIA projects have been published) | K26: S
J27: Overall Rating | K27: S
D28: Please Provide the Name and Contact information of person(s) reponsible for completeling the Rating section
D29: Name: | E29: Rose Mwebaza
D30: Email: | E30: mwebaza@un.org
C32: Please justify your rating. Outline the positive and negative progress made by the project since it started. Provide specific recommendations for next steps. (word limit=500)
