Workbook
Name ESP: #REF!
Name iincome: #REF!
Name iincome: #REF!
Name iincome: #REF!
Name iincome: #REF!
Name iincome: #REF!
Name income: #REF!
Name income: #REF!
Name income: #REF!
Name income: #REF!
Name income: #REF!
Name incomelevel: #REF!
Name incomelevel: #REF!
Name incomelevel: #REF!
Name incomelevel: 'Results Tracker (rev)'!$E$142:$E$144
Name incomelevel: #REF!
Name info: #REF!
Name info: #REF!
Name info: #REF!
Name info: 'Results Tracker (rev)'!$E$161:$E$163
Name info: #REF!
Name Month: [1]Dropdowns!$G$2:$G$13
Name overalleffect: #REF!
Name overalleffect: #REF!
Name overalleffect: #REF!
Name overalleffect: 'Results Tracker (rev)'!$D$161:$D$163
Name overalleffect: #REF!
Name physicalassets: #REF!
Name physicalassets: #REF!
Name physicalassets: #REF!
Name physicalassets: 'Results Tracker (rev)'!$J$161:$J$169
Name physicalassets: #REF!
Name quality: #REF!
Name quality: #REF!
Name quality: #REF!
Name quality: 'Results Tracker (rev)'!$B$152:$B$156
Name quality: #REF!
Name question: #REF!
Name question: #REF!
Name question: #REF!
Name question: 'Results Tracker (rev)'!$F$152:$F$154
Name question: #REF!
Name responses: #REF!
Name responses: #REF!
Name responses: #REF!
Name responses: 'Results Tracker (rev)'!$C$152:$C$156
Name responses: #REF!
Name state: #REF!
Name state: #REF!
Name state: #REF!
Name state: 'Results Tracker (rev)'!$I$156:$I$158
Name state: #REF!
Name Tracker: #REF!
Name type1: #REF!
Name type1: '[2]Results Tracker'!$G$146:$G$149
Name type1: #REF!
Name type1: 'Results Tracker (rev)'!$G$152:$G$155
Name type1: #REF!
Name Year: [1]Dropdowns!$H$2:$H$36
Name yesno: #REF!

Sheet Overview
D3: Project Performance Report (PPR)*
D4: * Refers to both projects and programs
C5: Period of Report (Dates) | D5: 31 October 2021 - 31 October 2022
C7: Project Title: | D7: Special Financing Window in Support of Innovation for Adaptation
C13: Project Summary: | D13: The primary objective of this five-year programme is to support countries to test, evaluate, roll out and scale up innovative adaptation practices, products and technologies. It does so by providing micro-grants to eligible beneficiary countries (developing countries without direct access to Adaptation Fund grants). The micro-grants are used to support the development and diffusion of innovative adaptation practices, tools, and technologies through the provision of technical assistance by relevant CTCN network members. The Programme also facilitates information sharing and the exchange of best practices in order to support a learning mechanism for innovation in adaptation. The programme is expected to encourage and accelerate new innovations and strengthen evidence base on effective, efficient adaptation practices, products and technologies by enabling 30 countries to successfully develop and implement concept notes for the Adaptation Fund innovation micro-grants mechanism. Of these 30 countries, 15 would focus on innovative technologies and 10 countries would focus on strengthening technical and financial systems to accelerate adaption innovation and technology action. The programme will thus contribute to Expected Results 3 and 4 of the Adaptation Fund Medium Term Strategy 2018-2022.
H14: Countries | I14: Project Type: | K14: GEF Focal Area: | L14: GEF 4 Focal Areas | M14: GEF 2 / 3 Operational Programme: | N14: Overall Rating of the project in the evaluation by the project evaluator: | O14: GEF-4 Focal Area Strategic Program: | P14: GEF-3 Focal Area Strategic Program:
C15: Database Number: | D15: S1-32AFB-000012-SB-015479 | H15: Afghanistan | I15: FP | J15: Yes | K15: Biodiversity | L15: 1 | M15: 1 | N15: U | O15: BD-SP1-PA Financing | P15: 1: Arid & semi-arid ecosystems
B16: Implementing Entity (IE) [name]: | D16: United Nations Environment Programme (UNEP) | H16: Albania | I16: MSP | J16: No | K16: Climate Change Adaptation | L16: 2 | M16: 2 | N16: S | O16: BD-SP2-Marine PA | P16: 2: Coastal, marine & freshwater ecosystems
C17: Type of IE: | D17: Multilateral Implementing Entity (MIE) | H17: Algeria | I17: EA | K17: Climate Change Mitigation | L17: 3 | M17: 3 | N17: MU | O17: BD-SP3-PA Networks | P17: 3: Forest ecosystems
C18: Country(ies): | D18: Global | H18: Angola | K18: International Waters | L18: 5 | M18: 5 | N18: Good | O18: BD-SP5-Markets | P18: 13: Conservation and Sustainable Use of Biological Diversity Important to Agriculture
B19: Relevant Geographic Points (i.e. cities, villages, bodies of water): | D19: NA | H19: Argentina | K19: Multiple Focal Area | O19: BD-SP7-Invasive Alien Species(IAS) | P19: 6: Promoting the adoption of renewable energy by removing barriers and reducing implementation costs
M20: CC-SP2- Industrial EE | N20: 8: Waterbody based operational program
C21: Project Milestones | M21: CC-SP3-RE,CC-SP4-Biomass | N21: 9: Integrated Land and Water multiple focal area
C22: Milestone | H22: Bahamas | O22: CC-SP5-Transport | P22: 10: Contaminants based operational program
B23: AFB Approval Date: | D23: 43749
B25: IE-AFB Agreement Signature Date: | D25: 43964 | N25: CC-SP6-LULUCF | O25: 12: Integrated Ecosystem Management
B26: Start of Project/Programme: | D26: 44132 | N26: Cross cutting capacity building | O26: 14: Persistent Organic Pollutants
B27: Actual Mid-term Review Date (if applicable): | D27: 45047
C29: Original Completion Date: | D29: 45957
B30: Revised Completion Date after approval of
C31: extension request (if applic)
D33: List each approval condition, if any, and report on the status of meeting them (duplicate table as nec)
C34: Category of condition
C35: Condition or Requirement
C36: Current Status
C37: Planned actions, including a detailed time schedule
D40: List (only) inception report/ extension request(s)/ MTR that have been prepared for the project and provide date(s) of submission for each | H40: Cyprus
D41: Inception Report, 15 February 2021 | H41: Czech Republic
B42: List the Website address (URL) of project | H42: Democratic People's Republic of Korea
D43: https://www.ctc-n.org/afcia/unep-ctcn | H43: Democratic Republic of the Congo
H44: Denmark
C45: Project contacts: | H45: Djibouti
B46: National/Regional Project Manager/Coordinator | H46: Dominica
C47: Name: | D47: Saliha Dobardzic | H47: Dominican Republic
C48: Email: | D48: sdobardzic@adaptation-fund.org | H48: Ecuador
C49: Date: | H49: Egypt
B51: Government(s) DA [if regional project/program add rows as necessary]
H52: El Salvador
C53: Name: | D53: NA | H53: Equatoral Guinea
C54: Email: | H54: Eritrea
...

Sheet Financial Data 
C3: Financial information PPR 1: cumulative from project start to 31st October 2021 | L3: Financial information PPR 2: cumulative from project start to 31 October 2022 | U3: Financial information PPR 3: cumulative from project start to [insert date] | AC3: Financial information PPR 4: cumulative from project start to [insert date] | AK3: Financial information PPR 5: cumulative from project start to [insert date]
C7: DISBURSEMENT OF AF GRANT FUNDS | L7: DISBURSEMENT OF AF GRANT FUNDS | U7: DISBURSEMENT OF AF GRANT FUNDS | AC7: DISBURSEMENT OF AF GRANT FUNDS | AK7: DISBURSEMENT OF AF GRANT FUNDS
C8: How much of the total AF grant as noted in Project Document plus any project preparation grant has been spent to date? | L8: How much of the total AF grant as noted in Project Document plus any project preparation grant has been spent to date? | U8: How much of the total AF grant as noted in Project Document plus any project preparation grant has been spent to date? | AC8: How much of the total AF grant as noted in Project Document plus any project preparation grant has been spent to date? | AK8: How much of the total AF grant as noted in Project Document plus any project preparation grant has been spent to date?
C9: Estimated cumulative total disbursement as of 31 October 2021 | E9: 713900 | L9: Estimated cumulative total disbursement as of 31 October 2022 | N9: 3106954 | U9: Estimated cumulative total disbursement as of [enter Date] | AC9: Estimated cumulative total disbursement as of [enter Date] | AK9: Estimated cumulative total disbursement as of [enter Date]
C10: Add any comments on AF Grant Funds. (word limit=200) | E10: To be noted: - As of 31st October, there are 3 concept notes contracted, and 8 AFCIA projects in the final stages of the selection and contracting process, from which 3 should start implementation by Q2.2022, and the remaining 5 during Q3.2022. - The total estimated amount for these 11 projects is USD 2,471,888.91. A change in the disbursement calendar has been prepared to reflect a more realistic map of activities and will be shared with the AF together with the revised PPR. Details on TA selected : On October 31st, a total budget of 583,063 USD has been contracted in order to implement 2 "Acceleration" projects and 1 "Enabling Environment" project. For the projects under the acceleration component, there is one in Burundi, and one in Saint Kitts and Nevis. The project implemented under the enabling environment component is in the Bahamas. | L10: Add any comments on AF Grant Funds. (word limit=200) | N10: As of 31st October 2022: • 12 projects are being implemented under AFCIA for a total of USD 2,607,853 (USD 1,871,434.93 financed by AFCIA and USD 736,419 USD CTCN co-financed) from the AFCIA programme. These projects include Burundi, Saint Kitts, Liberia, Zambia, Vietnam, Nepal, Maldives, Bahamas, Ghana, Honduras, Mongolia, Sudan. Among those: - One project (Bahamas) has been put on hold (see footnote 1 below) - One project (Maldives) is being partially co-financed by CTCN for 36,789 usd - Three projects (Sundan, Honduras and Mongolia) are being entirely co-financed by CTCN (see footnote 2 below) for respectively 250,030, 240,000 and 209,600 usd. | U10: Add any comments on AF Grant Funds. (word limit=200) | AC10: Add any comments on AF Grant Funds. (word limit=200) | AK10: Add any comments on AF Grant Funds. (word limit=200)
C12: INVESTMENT INCOME | L12: INVESTMENT INCOME | N12: 0 | U12: INVESTMENT INCOME | AC12: INVESTMENT INCOME | AK12: INVESTMENT INCOME
C13: Amount of annual investment income generated from the Adaptation Fund’s grant | L13: Amount of annual investment income generated from the Adaptation Fund’s grant | U13: Amount of annual investment income generated from the Adaptation Fund’s grant | AC13: Amount of annual investment income generated from the Adaptation Fund’s grant | AK13: Amount of annual investment income generated from the Adaptation Fund’s grant
C15: EXPENDITURE DATA | L15: EXPENDITURE DATA | N15: ITEM / ACTIVITY / ACTION | O15: AMOUNT SPENT | P15: Co-funded by CTCN | U15: EXPENDITURE DATA | AC15: EXPENDITURE DATA | AK15: EXPENDITURE DATA
C16: List output and corresponding amount spent for the current reporting period | E16: ITEM / ACTIVITY / ACTION | F16: AMOUNT | L16: List output and corresponding amount spent for the current reporting period | N16: 1.1 Communications Sp | O16: 21000 | P16: 0 | U16: List output and corresponding amount spent for the current reporting period | W16: ITEM / ACTIVITY / ACTION | X16: AMOUNT | AC16: List output and corresponding amount spent for the current reporting period | AE16: ITEM / ACTIVITY / ACTION | AF16: AMOUNT | AK16: List output and corresponding amount spent for the current reporting period | AM16: ITEM / ACTIVITY / ACTION | AN16: AMOUNT
E17: 1.1 Communications Sp | F17: 12000 | N17: 1.1 Translation Services | O17: 0 | P17: 0
E18: 1.1 Translation Services | F18: 0 | N18: 1.1 Printing | O18: 3134 | P18: 0
E19: 1.1 Printing | F19: 3134 | N19: 1.1 Regional Liaison | O19: 12540 | P19: 0
E20: 1.1 Regional Liaison | F20: 8040 | N20: 1.2 Grants to Network Members (concept note develop) | P20: 0
E21: 1.2 Grants to Network Members (concept note development) | F21: 0 | N21: 1.2 Travel (related to concept note develop) | O21: 0 | P21: 0
N22: Sub Total Component 1 | O22: =SUM(O16:O21) -> 36674 | P22: =SUM(P16:P21) -> 0
E23: 1.2 Travel (related to concept note develop) | F23: 0 | N23: 2.1 Grants to Network Members (implementation - innov & tech projects)* | P23: 0
E24: 2.1 Grants to Network Members (implementation - innov & tech projects)* | F24: 0 | N24: 1- Burundi (previous reporting period) | O24: 214950 | P24: 0
E25: Burundi | F25: 214950 | N25: 2 - Saint Kitts and Nevis (previous reporting period) GBP 149,553 | O25: 201553.91 | P25: 0
E26: Saint Kitts and Nevis | F26: 201553.91 | N26: 3- Liberia | O26: 233825 | P26: 0
E27: 2.1 Grants to Network Members (implementation - enabling env projects)* | F27: 0 | N27: 4- Zambia | O27: 224990 | P27: 0
E28: Bahamas | F28: 166560 | N28: 5- Vietnam | O28: 192999
E29: 3.1 Communications Sp | F29: 6000.01 | N29: 6- Nepal | O29: 142750 | P29: 0
E30: 3.1 IT Services | F30: 0 | N30: 7 - Maldives (Co-funded project 1) | O30: 250000 | P30: 36789
E31: 3.1. Grants to Network Members (Lessons l earned) | F31: 0 | N31: 8 - Sudan Soil mapping (Footnote 2)- Co funded project 2 | O31: 0 | P31: 250030
E32: 3.2 Communications Sp | F32: 5999.99 | N32: 2.1 Grants to Network Members (implementation - enabling env projects)* | P32: 0
E33: 3.2 Translation Services | F33: 0 | N33: 9 - Bahamas (previous reporting period) Footnote 1 | O33: 166560 | P33: 0
E34: 3.2 Audio/Video Services | F34: 0 | N34: 10 -Ghana | O34: 243807.02 | P34: 0
N35: 11 - Mongolia (Footnote 2) (Co-funded project 3) | O35: 0 | P35: 209600
E36: 3.2 Printing | F36: 1768.92 | N36: 12 - Honduras (Footnote 2) (co-funded project 4) | O36: 0 | P36: 240000
N37: Sub Total Component 2 | O37: =SUM(O23:O36) -> 1871434.9 | P37: =SUM(P23:P36) -> 736419
E38: 3.3 Grants to Network Members (Tech investment proposals) | F38: 0 | N38: 3.1 Communications Sp | O38: 10500 | P38: 0
E39: 3.3 Travel | F39: 0 | N39: 3.1 IT Services | O39: 0 | P39: 0
E40: Sub Total Component 1 to 3 | F40: =SUM(F17:F39) -> 620006.83 | N40: 3.1. Grants to Network Members (Lessons l earned) | O40: 0 | P40: 0
E41: EC.Prog. Manager | F41: 17000 | N41: 3.2 Communications Sp | O41: 10500 | P41: 0
E42: EC. Procurement Officer | F42: 0 | N42: 3.2 Translation Services | O42: 0 | P42: 0
E43: EC.Technical Specialist | F43: 6000 | N43: 3.2 Audio/Video Services | O43: 0 | P43: 0
E44: EC.Office Equipment | F44: 0 | N44: 3.2 Printing | O44: 1768.72
E45: EC. Procurement Officer | F45: 0 | N45: 3.3 Grants to Network Members (Tech investment proposals) | O45: 0 | P45: 0
E46: EC.Travel | F46: 0 | N46: 3.3 Travel | O46: 0 | P46: 0
N47: Sub Total Component 3 | O47: =SUM(O38:O46) -> 22768.72 | P47: =SUM(P38:P46) -> 0
...

Sheet Risk Assesment
C3: RISK ASSESSMENT
C7: IDENTIFIED RISKS
C8: List all Risks identified in project preparation phase and what steps are being taken to mitigate them
C9: Identified Risk | D9: Current Status | E9: Steps Taken to Mitigate Risk
C10: Delays in contracting Network Members may slow implementation | D10: Low | E10: • The use of UNON’s two-stage bidding process was agreed to for the recruitment of Implementing Partners (CTCN Network Members) for the implementation of UNEP CTCN AFCIA Technical Assistance projects. This well-established procurement process allows for contracting of Network Members to be efficiently planned within 4-6 months, without causing delays to the implementation schedule.
C11: Challenges in coordination between National Designated Entities (NDEs) and Adaptation Fund Designated Authorities (DAs) may impact the quality of submissions | D11: Low | E11: • Outreach and communication activities aiming at generating a common understanding of the project, as well as on the roles of both NDEs and DAs, are being conducted successfully. • Joint discussions between PP, NDE, DA are being encouraged and often facilitated by CTCN during the development of project concept notes, and as TA projects start implementation.
C12: The lack of enabling environment to encourage and support innovation limits national buy-in | D12: Low | E12: • At the project concept note development stage, engagement of national designated entities to the technology mechanism (NDEs) and national focal points to the Adaptation Fund (DAs) is encouraged, allowing for greater national ownership and for a better understanding of the importance of innovative adaptation technologies. • All project proposals to be implemented by Network Members include costed capacity building activities for national counterparts and key stakeholders, using different modalities depending on the project.
C13: Not enough high quality requests are received | D13: Medium | E13: • A communication strategy/outreach plan is being implemented. Potential project proponents are encouraged to work with NDE and DA and CTCN deliver targeted support during the early stage of technology concept note development to enhance the quality of submissions. During the period from October 2021 to October 2022, the following webinars were held to build capacity and increase quality of requests submitted: - For Africa region, a webinar was held on 31st of July 2022, - for LAC the webinar was organized on July 12th 2022. - For Asia, no webinars but bilateral calls were scheduled with the LDCs. - For Africa and LAC, special sessions on AFCIA were organized during the Climate Weeks in presence of most of the NDEs of the region. Asia didn’t have any Climate Week organized this year. • During the 1st call for projects, 13% of the application were classified as non-eligible. This percentage decreased to 8% in the second call which demonstrates the benefit of the webinars and knowledge transfer sessions that were organized. The third call for projects received alone more than 200 applications (more than the sum of the 2 first calls) from which 42% was deemed not eligible. This can be explained by the fact that the 3rd call was intensively promoted not only amongst NDEs, but also amongst research centers, universities, think tanks, private sectors, as well as local municipalities. These applicants have lower knowledge and many did not attend the webinars organised. Despite the efforts made to build knowledge and capacity of applicants, only a small part of the 100 applications eligible received through the third call for proposals respond to all selection criteria of the AFCIA programme. CTCN will work with selected applicants to transform the concept notes selected into strong proposals
C14: Transformational change cannot be achieved through micro-grants | D14: Low | E14: • Eligibility and prioritization criteria are systematically applied during evaluation of submissions and ensure that the micro-grants are linked to national plans and consistent with NDCs, NAPs and other relevant commitments. • CTCN technical advice/support provided at early stages of development of the technology concept aims to strengthen these linkages and the quality of requests received, as well as the potential for transformational change of these projects. • Support is scheduled to be provided to prepare 2 proposals for scaled up investment through the Adaptation Fund full size innovation window or other relevant financing mechanisms. One concept note that precedes the full scale proposal is already under formulation and is expected to be submitted in Dec 2022 to the AF for review and approval .The other Full proposal has not yet been selected.
C15: Gender considerations are not adequately taken into account during the design and implementation of innovation grant. | D15: Low | E15: • Selection criteria used to select the technology concepts include one indicator on gender and youth empowerment. • UNEP Environmental and Social Safeguard screening including gender aspects is being developed for all selected project. • CTCN Gender Mainstreaming Tool (Gender Toolkit) is being applied. • IPs/Network Members are required to report on gender indicators. • IPs are further required to include in their proposals at least one gender expert and allocate a minimum of 1% of total budget to gender activities.
C16: Funding for scaled-up implementation is not available | D16: Low | E16: • CTCN eligibility and prioritization criteria include market-based criteria which helps select innovation technology concepts with the greatest chance to scale up. • Project concept notes are designed aiming at enhancing the potential for scale up innovations supported through the projects, requiring IPs/Network Members to provide information on financing mechanisms and/or costed actions plans for upscaling. *Mitigation measures have been put in place, and risk level has been adjusted accordingly.
C17: Innovations trigger mal-adaptation | D17: Low | E17: • UNEP Environmental and Social Safeguard (ESS) screening is conducted for each project and include a safeguard around Climate Change and Disaster Risks looking at the issue of climate vulnerability and maladaptation • Project concept notes are developed to avoid potential maladaptation risks and include robust M&E frameworks that are applied throughout project implementation.
C22: Critical Risks Affecting Progress (Not identified at project design)
C23: Identify Risks with a 50% or > likelihood of affecting progress of project
C24: Identified Risk | D24: Current Status | E24: Steps Taken to Mitigate Risk
C25: Covid-19 risk | D25: Low - The situation has positively evolved during the reporting period covering October 2021 to October 2022. Int the last couple of months COVID-19 dissemination has been spreading again globally but the dangerous of the disease remain much lower than in the past. Travels remain possible and most of the countries have cancelled the COVID-19 restrictions measures. | E25: The risk has been lowered from Medium to Low as COVID-19 restrictions have currently disappeared for most of the countries This risk has been reduced to low in October 2022.. Should the risk increases again, the IP/Network Member will engage local consultants with previous experience with relevant local stakeholders to facilitate flow of information. Data collection will be performed adhering to applicable Health &Safety rules in the country at the moment. CTCN will provide tools for remote collaboration and engagement. Unused travel budget may be repurposed to complement remote collaboration tools or additional related costs stemming from Covid-19 situation. In all ongoing and new projects starting implementation, the CTCN requires the network partners to organize in-person events whenever possible in order to ensure that the impact of COVID-19 can be compensated while restrictions have been cancelled.
C26: Political Risks | D26: Medium- Situation in some countries in Africa, Asia and the SIDs is unpredictable. A current project has been put on hold due to a change of government. | E26: The focal points (NDE, DA) and the CTCN have established a good working relationships and communication channels. UNEP field and regional office may be used should emergency communications be needed. During this reporting period, one case of political risk occurred, with the project in Bahamas. Due to a change of government, the ministry responsible for this project was requested to step back from the implementation of this project. Meetings with the NDE and with other relevant stakeholders were undertaken to understand whether another governmental institution could replace the Ministry. Discussions are still ongoing. The project has been put on hold until a institutional and consensual decision could be taken in and by the country and the project might very well be cancelled. Consequently the risk has been increased to Medium. So far, no TAs selected under AFCIA have been indirectly impacted by the war in Ukraine and associated risk of inflation.
C27: Force Majeure | D27: Low - Situation in some countries in Africa, Asia and the SIDs is unpredictable. | E27: IP/Network Members are following the guidance below as they implement AFCIA projects: - Defining a well-structured working plan and an adapted monitoring system to follow up closely any potential issues which might delay the implementation of this readiness - Ensuring a timely updates, with regular meetings between the IP and the NDE/DA to plan and scrutinize well in advance all potential and upcoming obstacles (e.g. defining urgency procedures to overcome delay of disbursement) - Providing suitable means to shift to adaptable modes of work, for example virtual meetings (e.g. training and providing internet package to local targeted stakeholders).
C31: Risk Measures: Were there any risk mitigation measures employed during the current reporting period? If so, were risks reduced? If not, why were these risks not reduced?
C32: Add any comments relevant to risk mitigation (word limit = 500)
C33: The COVID19 risks has been lowered from Medium to Low in October 2022 cosidering that most countries have no more active restrictions related to COVID19. The risk of receiving not enough good-quality proposals has been increased to Medium based on the experience of the third call for proposal. Politcal Risk has been increased from Low to Medium following the situation in Bahamas where the project had to be be put on hold following a change in Government in 2022.

Sheet ESP Compliance
C3: ENVIRONMENTAL AND SOCIAL POLICY COMPLIANCE
C6: SECTION 1: IDENTIFIED ESP RISKS MANAGEMENT
C8: Was the ESP risks identification complete at the time of funding approval? [1]
C10: ESP principle [2] | D10: Are environmental or social risks present as per table II.K (II.L for REG) of the proposal? [3] | E10: During project/programme formulation, an impact assessment was carried out for the risks identified. Have impacts been identified that require management actions to prevent unacceptable impacts? (as per II.K/II.L) [4] | F10: List the identified impacts for which safeguard measures are required (as per II.K/II.L) | G10: List here the safeguard measures (i.e. avoidance, management or mitigation) identified for each impact that are supposed to be (or had to be) implemented during the reporting period. Please break down the safeguard measures by activity. [5] | H10: List the monitoring indicator(s) for each impact identified. [6] | I10: State the baseline condition for each monitoring indicator | J10: Describe each safeguard measure that has been implemented during the reporting period [7] | K10: Describe the residual impact for each impact identified - if any - using the monitoring indicator(s) [7] | L10: Describe remedial action for residual impacts that will be taken. [7]
C11: 1 - Compliance with the law
C12: 2 - Access and equity
C13: 3 – Marginalized and vulnerable Groups
C14: 4 – Human rights
C15: 5 – Gender equality and women’s empowerment
C16: 6 – Core labour rights
C17: 7 – Indigenous peoples
C18: 8 – Involuntary resettlement
C19: 9 – Protection of natural habitats
C20: 10 – Conservation of biological diversity
C21: 11 – Climate change
C22: 12 – Pollution prevention and resource efficiency
... C28: SECTION 2: MONITORING FOR UNANTICIPATED IMPACTS / CORRECTIVE ACTIONS REQUIRED
C30: Has monitoring for unanticipated ESP risks been carried out? | E30: YES, Safeguards Risk Identification Forms (SRIF) have been prepared and approved by UNEP for all projects funded by AFCIA. The SRIF of the three projects (Sudan, Honduras and Mongolia) entirely co-financed by CTCN will be developed during the next reporting period
C31: Have unanticipated ESP risks been identified during the reporting period? | E31: NO
C32: If unanticipated ESP risks have been identified, describe the safeguard measures that have been taken in response and how an ESMP has been prepared/updated
C35: SECTION 3: CATEGORISATION
C37: Is the categorisation according to ESP standards still relevant?
C38: If No, please describe the changes made at activity, output or outcome level, approved by the Board, that resulted in this change of categorization. | E38: There was no categorization of the safeguards risk of this project because it would depend on the micro grants identified (USPs)
C41: SECTION 4: IMPLEMENTATION ARRANGEMENTS
C43: What arrangements have been put in place by the Implementing Entity during the reporting period to implement the required ESP safeguard measures? | E43: Safeguards Risk Identification Forms (SRIF) have been developed following UNEP Environmental and Social Sustainability Framework (ESSF, approved in February 2020) and related guidance on Environmental and Social Safeguards and Stakeholder Response mechanisms. They have been reviewed and approved by UNEP Environmental and Social Safeguard Officer for all project funded by AFCIA. Same procedure will be applied for the projects selected during the last and third call for projects (which was closed on September 30th - requests are under evaluation) and for projects entirely co-financed by CTCN.
C44: Have the implementation arrangements been effective during the reporting period? | E44: Yes. All projects funded by AFCIA have an approved SRIF aligned with related UNEP ESSF and related guidance. All projects have been ranked "low risk" . The three projects entirely co-financed by CTCN have followed another risk identification process but SRIF will be developed during the next reporting period. For all project, mitigation actions have been defined to limit the idetnified risks.
C45: What arrangements have been put in place by each Executing Entity during the reporting period to implement the required ESP safeguard measures? | E45: CTCN as the Executing Entity for the AFCIA program has followed UNEP Environmental and Social Sustainability Framework (ESSF, approved in February 2020) and related guidance on Environmental and Social Safeguards and Stakeholder Response mechanisms, in alignment with relevant UN EMG guidance and with that its partners such as the Adaptation Fund. The following arrangements have been put in place by CTCN during the reporting period: • CTCN has ensured that all AFCIA applications selected where eligible and prioritized based on a set of criteria including "Eligibility Criteria", "Prioritization criteria" and "Balancing Criteria". These criteria aims to confirm that the project is aligned with national priorities, that they have been endorsed by NDEs, that they promote women empowerment, as well as have direct and clear impact on Climate Change and that the project should generate environmental, social and economical benefits. • CTCN has conducted a deeper analysis of the ESS impacts of all projects funded by AFCIA once officially selected through filling in the Safeguard Risk Identification Form (SRIF). This second step of the process takes into consideration the identification of potential environmental and social risks and impacts associated with the proposed activities, as per UNEP´s ESSF. Assignment of a risk category to AFCIA projects, as per UNEP guidance and in consultation with UNEP´s ES Safeguard Advisor, takes into consideration a range of factors, including the nature, type, scale and duration of project activities. Thus far, only AFCIA submissions ranked with a low ESS risk were implemented under the AFCIA program. Once approved by UNEP ESS manager, all SRIF are uploaded online, and publicly available on CTCN webpage. • CTCN has also used UNEP´s ES principles and safeguards to strengthen the sustainability of the prioritized submissions, while working with Project Proponents, Designated National Authorities (NDEs), DNAs, during the design of AFCIA project concept notes. • CTCN also follows UNEP´s procedures on stakeholder response mechanisms to establish a Grievance Redress Mechanism (GRM) for the programme ensuring greater sustainability and accountability in the implementation of AFCIA projects. Information about the grievance redress mechanisms (GRM) is communicated during the inception meeting in presence of the stakeholders. Considering the small size of each project, UNEP has decided to use the grievance mechanism available under UNEP to cover the AFCIA programme. This grievance mechanism leads the parties to connect to a webpage from which they can raise their concern. Procedures to access the Independent Office for Stakeholder Safeguard-related Response (IOSSR) is communicated to stakeholders at the start of the implementation of each AFCIA project.
C46: Have the implementation arrangements at the EEs been effective during the reporting period? | E46: Yes. The arrangements put in place have been proven effective thus far, and have contributed in some projects to strengthen the design of project concept notes. The implementation arrangements have also been applied to the project that are under implementation. Indeed, the NDEs, DA and project proponents have been informed of UNEP safeguards, and the link to UNEP´s webpage has been shared with all of them in order to give them the possibility to contact UNEP should any risks arise during the implementation of the project.
C49: SECTION 5: PROJECTS/PROGRAMMES WITH UNIDENTIFIED SUB-PROJECTS (USPs). This section needs to be completed only if the project/programme includes USPs.
C51: Have the arrangements for the process described in the ESMP for ESP compliance for USPs been put in place? [8]
C52: Is the required capacity for ESMP implementation present and effective with the IE and the EE(s)? Have all roles and responsibilities adequately been assigned and positions filled? Please provide details. | E52: CTCN follows UNEP ESSF (aligned with AF ESP). Clear process and arrangements are in place, and procedures and roles are well defined, as per UNEP´s guidance, and in alignment with CTCN´s delivery model of Technical Assistance services. Improvements will be put in place as needed, based on lessons learned with the implementation of the first AFCIA TA projects. AFCIA projects are selected through different steps. The first steps divide the applications between the eligible and non-eligible ones based on very basic criteria: Has the correct template been used and is the request signed by the NDE and or the AF Focal points. Then, eligible applications are screened by the CTCN based on more detailed eligibility, prioritization and balancing criteria. The application with the highest score obtained though the screening are pushed to the next steps which include a meeting between the CTCN, the NDE and the Project Proponent, during which technical doubts about the requests are discussed and the procedures of the CTCN is explained and agreed. Following this step, a letter of appraisal is signed by the CTCN and shared with the NDE and project proponent(s). The SRIF is prepared and approved by UNEP safeguard officer before the first draft of the Response Plan is formulated. Only projects with low risks SRIF will be moved to the next step as clearly defined in the letter of appraisal. For low risk project, ESS risk mitigation actions are included in the SRIF but not stand alone Environmental and Social Management Plan (ESMP) is required.
C53: Has the overall ESMP been updated with the findings of the USPs that have been identified in this reporting period? [9] | E53: N/A
C55: List each USP that has been identified in the reporting period to the level where effective ESP compliance is possible. Add lines as necessary, one line for every USP identified. | D55: Has the ESMP been applied to the USP that has been identified? | E55: List all the ESP risks that have been identified for the USP | F55: Has an impact assessment been carried out for each ESP risk that has been identified for the USP? | G55: Has adequate consultation been held during risks and impacts identification for the USP? [10] | H55: Have the data used to identify risks and impacts been disaggregated by gender as required? | I55: List the environmental and social safeguard measures (avoidance, mitigation, management) that have been identified for the USP | J55: List the monitoring indicator(s) for each impact identified
C56: USP 1: [Burundi] Easily deployable water-filled flood barrier that can be used to prevent damage from flooding and to store water vapor-tight to ensure water availability in times of drought | D56: A Safeguard Risk Identification Form (SRIF) has been developed for the project and approved by UNEP ES Safeguard Officer. | E56: While all risks probability and impact levelsremain low, main risks identified through the SRIF relate to: SS 2: Climate Change and Disaster Risks: A/The selected area is expected to suffer floods and drought time as it has occurred in the past. The frequency of floods and drought are expected to increase due to climate change. This technology, is found feasible, would lead to building resilience of the local communities. B/There are local communities vulnerable to the impacts of climate change and disaster risks (e.g. considering level of exposure and adaptive capacity). | F56: All risks were rated as low during the risk screening process (SRIF) | G56: The project has analysed and has identified stakeholders who are going to be positively or negatively impacted by the project implementation in consultation with the Director´s office of the Environment and Climate Change Ministry of Environment, Agriculture and Livestock as well as with Burundi Geographic Institute. Representative of the pilot sites have been involved through the Ministry and Institute. Local communities have been informed and consulted to identify the potential risks/impacts of the project on their livelihoods, rights, wellbeing at very early stage of the process, and during the definition of the project. Representatives of the selected area will be supervising the project implementation by being part of the stakeholder´s working group in charge of driving the decision process during the implementation. | H56: Yes, the data used to identify and monitor the risks identified and expected impacts are disaggregated by gender. Gender equality is a guiding principle of the risk screening checklist (SRIF). It is mainstreamed throughout the safeguards and is also the focus of three specific questions in the SRIF. | I56: n/a | J56: n/a
C57: USP 2: [Saint Kitts and Nevis] Increase the water supply system resilience by managing aquifers recharge (MAR) and incorporating drought risks modelling as a planning tool for climate change adaptation measures | D57: A Safeguard Risk Identification Form (SRIF) has been developed for the project and approved by UNEP ES Safeguard Officer. | E57: While all risks probability and impact levelsremain low, main risks identified through the SRIF relate to: SS 2: Climate Change and Disaster Risks: A/areas that are now or are projected to be subject to natural hazards such as extreme temperatures, earthquakes, extreme precipitation and flooding, landslides, droughts, severe winds, sea level rise, storm surges, tsunami or volcanic eruptions in the next 30 years. The selected area is expected to suffer dry spells and drought conditions, high flooding and landslides, as it has occurred in the past. | F57: All risks were rated as low during the risk screening process (SRIF) | G57: In consultation with national stakeholders, the Department of Environment, Ministry of Environment and Cooperatives of the government of SKN, water services providers, departments responsible for water resource management and economic development and water users, the project has analysed and identified stakeholders who would be positively or negatively impacted by the project implementation. Representative of the pilot sites have been involved through the Ministry and Institute. Local communities have been informed and consulted through the local representative and a project briefing note has been published by the Department of Environment SKN in January 2022 | H57: Yes, the data used to identify and monitor the risks identified and expected impacts are disaggregated by gender. Gender equality is a guiding principle of the risk screening checklist (SRIF). It is mainstreamed throughout the safeguards and is also the focus of three specific questions in the SRIF | I57: n/a | J57: n/a
C58: USP 3: [Bahamas] Developing a national framework for the standardization of stalls and procedures for a climate smart street side vendor in the Bahamas. The project in Bahamas is on hold at the moment due to a change of government in the country. Please refer to Footnote 1 in the "Financial Data" Sheet for further details. | D58: A Safeguard Risk Identification Form (SRIF) has been developed for the project and approved by UNEP ES Safeguard Officer. | E58: While all risks probability and impact levelsremain low, main risks identified through the SRIF relate to: SS 2: Climate Change and Disaster Risks A/Areas that are now or are projected to be subject to natural hazards such as extreme temperatures, earthquakes, extreme precipitation and flooding, landslides, droughts, severe winds, sea level rise, storm surges, tsunami or volcanic eruptions in the next 30 years. Bahamas is highly vulnerable to extreme climate events such as hurricanes. SS 6: Displacement and Involuntary Resettlement. B/Full or partial physical displacement or relocation of people (whether temporary or permanent). The project will develop a framework and feasibility study to implement standardization of stalls and a sustainable program for the establishment of open green spaces for Street Side Vendors, with the aim of reallocating street-side vendors from unsafe locations to open green spaces, to organize the informal sector of the economy into a more formalized sector. | F58: All risks were rated as low during the risk screening process (SRIF) | G58: The project has analysed and has identified stakeholders who are going to be positively or negatively impacted by the project implementation in consultation with the Ministry of Agriculture and Marine Resources (MAMR). The MAMR is designated to implement a sustainable development plan for street side vendors, and the technical assistance will contribute to the implementation of this initiative. The participation of women and youth as well local communities have been infomed by the project proponent and the NDE. | H58: Yes, the data used to identify and monitor the risks identified and expected impacts are disaggregated by gender. Gender equality is a guiding principle of the risk screening checklist (SRIF). It is mainstreamed throughout the safeguards and is also the focus of three specific questions in the SRIF | I58: n/a | J58: n/a
C59: USP 4: [Liberia] Upscaling lowland rice production to improve food security through improved solar powered irrigation practices | D59: A Safeguard Risk Identification Form (SRIF) has been developed for the project and approved by UNEP ES Safeguard Officer. | E59: While all risks probability and impact levelsremain low, main risks identified through the SRIF relate to: SS 2: Climate Change and Disaster Risks A/ The selected areas are now or are projected to be subject to natural hazards such as extreme temperatures, earthquakes, extreme precipitation and flooding, landslides, droughts, severe winds, sea level rise, storm surges, tsunami or volcanic eruptions in the next 30 years. The historical climate change scenarios include increased average annual temperatures of 0.8°C throughout the country, a 15.7% increase of hot nights which lead to decline in mean annual rainfall. Agriculture is a major sector of Liberia employing more than 70% of the population. B/ Local communities vulnerable to the impacts of climate change and disaster risks (e.g. considering level of exposure and adaptive capacity). SS 7: Indigenous Peoples : C/ Areas where indigenous peoples are present, or uncontacted or isolated indigenous peoples inhabit or where it is believed these peoples may inhabit. In Liberia there are at least sixteen ethnic groups. The small Dei group lives in Montserrado County near the coast and Monrovia, primarily between the Lofa and St. Paul rivers. Gbandi and Mende also live in upper Lofa County. No indigenous people have been identified to live in Bong County. The rating of the safeguards has been scored as level 2 as it is unknown at this stage if the project will be implemented in Lofa or in Bong. | F59: All risks were rated as low during the risk screening process (SRIF) | G59: The project has analysed and has identified stakeholders who are going to be positively or negatively impacted by the project implementation in consultation with the Environmental Protection Agency of Liberia and the Ministry of Agriculture, Division of Land Development and Water Resources, Department of technical Services of Liberia. Representative of the pilot sites have been involved through the EPA and the Ministry of Agriculture. Local communities have been informed and consulted to identify the potential risks/impacts of the project on their livelihoods, rights, wellbeing at very early stage of the process, and during the definition of the project. Representatives of the selected area will be supervising the project implementation by being part of the stakeholder´s working group in charge of driving the decision process during the implementation. | H59: Yes, the data used to identify and monitor the risks identified and expected impacts are disaggregated by gender. Gender equality is a guiding principle of the risk screening checklist (SRIF). It is mainstreamed throughout the safeguards and is also the focus of three specific questions in the SRIF | I59: an/a | J59: n/a
C60: USP 5: [Zambia] Aquifer mapping technologies for Zambia | D60: A Safeguard Risk Identification Form (SRIF) has been developed for the project and approved by UNEP ES Safeguard Officer. | E60: While all risks probability and impact levelsremain low, main risks identified through the SRIF relate to: SS 1: Biodiversity, Ecosystems and Sustainable Natural Resource: A/adverse impacts specifically to habitats that are legally protected, officially proposed for protection, or recognized as protected by traditional local communities and/or authoritative sources (e.g., National Park, Nature Conservancy, Indigenous Community Conserved Area, (ICCA); etc.) The rating of the safeguards has been scored as a risk - level 2 as the project will be implemented in an unknown location and should impact the country at national level. SS 2: Climate Change and Disaster Risks. B/Areas that are now or are projected to be subject to natural hazards such as extreme temperatures, earthquakes, extreme precipitation and flooding, landslides, droughts, severe winds, sea level rise, storm surges, tsunami, or volcanic eruptions in the next 30 years. Water crisis is being experienced in most parts of Zambia especially in drought prone areas. The situation has worsened due to the drying up of surface water resources which much of the population depends on. The reduced amount of rainfall being received because of climate change has negatively affected the water levels of the highly dependent surface water resources. SS 7: Indigenous Peoples : C/ areas where indigenous peoples are present, or uncontacted or isolated indigenous peoples inhabit or where it is believed these peoples may inhabit. The rating of the safeguards has been scored as level 2 as the project will be implemented in an area that has not yet been selected, and will directly impact the country, at national level. | F60: All risks were rated as low during the risk screening process (SRIF) | G60: The project has analysed and has identified stakeholders who are going to be positively or negatively impacted by the project implementation in consultation with the Ministry of Technology and Science and the Ministry of Water Development and Sanitation of Zambia. Local communities and governmental entities have been informed and consulted to identify the potential risks/impacts of the project on their livelihoods, rights, wellbeing at very early stage of the process, and during the definition of the project through the Ministry of Technology and Science and the Ministry of Water Development and Sanitation of Zambia. Representatives of the selected area will be supervising the project implementation by being part of the stakeholder´s working group in charge of driving the decision process during the implementation. | H60: Yes, the data used to identify and monitor the risks identified and expected impacts are disaggregated by gender. Gender equality is a guiding principle of the risk screening checklist (SRIF). It is mainstreamed throughout the safeguards and is also the focus of three specific questions in the SRIF | I60: n/a | J60: n/a
C61: USP 6: [Ghana] Promoting and upscaling appropriate solar irrigation technology options for smallholder farmers in Ghana through innovative climate adaptation financing mechanisms, a conducive policy framework for technology regulation and tailored training modules | D61: A Safeguard Risk Identification Form (SRIF) has been developed for the project and approved by UNEP ES Safeguard Officer. | E61: While all risks probability and impact levelsremain low, main risks identified through the SRIF relate to: SS 2: Climate Change and Disaster Risks A/areas that are now or are projected to be subject to natural hazards such as extreme temperatures, earthquakes, extreme precipitation and flooding, landslides, droughts, severe winds, sea level rise, storm surges, tsunami or volcanic eruptions in the next 30 years. Ghana’s 4th National communication to the UNFCCC indicates that temperatures in the country are most likely to increase by at least 3ºC by 2080 nationwide with the savanna regions recording temperatures above 30ºC. The impact of this increased temperature includes a decrease in the length of the wet season, an increase in the number of dry days per month, heatwaves and potential evapotranspiration leading to increasing risk of droughts. B/ local communities vulnerable to the impacts of climate change and disaster risks (e.g. considering level of exposure and adaptive capacity. The agriculture sector in Ghana employs about 47% of the country’s labour force, most of which are smallholder farmers. SS 7: Indigenous Peoples C/Areas where indigenous peoples are present or uncontacted or isolated indigenous peoples inhabit or where it is believed these peoples may inhabit The rating of the safeguards has been scored as level 2 as the project will be implemented at national level. | F61: All risks were rated as low during the risk screening process (SRIF) | G61: The project has analysed and has identified stakeholders who are going to be positively or negatively impacted by the project implementation in consultation with the Environmental Protection Agency of Ghana. Local communities and governmental entities have been informed and consulted to identify the potential risks/impacts of the project on their livelihoods, rights, wellbeing at very early stage of the process, and during the definition of the project through the Environmental Protection Agency of Ghana. | H61: Yes, the data used to identify and monitor the risks identified and expected impacts are disaggregated by gender. Gender equality is a guiding principle of the risk screening checklist (SRIF). It is mainstreamed throughout the safeguards and is also the focus of three specific questions in the SRIF | I61: n/a | J61: n/a
C62: USP 7: [Vietnam] Localization of water resources management technology to adapt to climate change in Hong-Thai Binh river basin | D62: A Safeguard Risk Identification Form (SRIF) has been developed for the project and approved by UNEP ES Safeguard Officer. | E62: While all risks probability and impact levelsremain low, main risks identified through the SRIF relate to: SS 2: Climate Change and Disaster Risks : A/areas that are now or are projected to be subject to natural hazards such as extreme temperatures, earthquakes, extreme precipitation and flooding, landslides, droughts, severe winds, sea level rise, storm surges, tsunami or volcanic eruptions in the next 30 years. Vietnam was ranked by the Global Climate Risk Index 2020 as the sixth country in the world most affected by climate variability and extreme weather events over the period 1999-2018. SS 7: Indigenous Peoples: B/areas where indigenous peoples are present or uncontacted or isolated indigenous peoples inhabit or where it is believed these peoples may inhabit. The rating of the safeguards has been scored as level 2 as the project will be implemented in areas where indigenous peoples and ethnic minority groups live, though most of the activities of the project are related to environmental/water planning and management data and information. | F62: All risks were rated as low during the risk screening process (SRIF) | G62: The project has analysed and has identified stakeholders who are going to be positively or negatively impacted by the project implementation, in consultation with the Ministry of Natural Resources of Vietnam, and the North Division for North Division for Water Resources Planning and Investigation of the National Centre for Water Resources Planning and Investigation. The participation of women and youth will be proactively encouraged throughout the implementation as per UN/CTCN rules. Local communities have been encouraged to engage with the project at initial stage and will be invited to provide their feedbacks during the implementation through the local government representatives and the Implementing Partner. | H62: Yes, the data used to identify and monitor the risks identified and expected impacts are disaggregated by gender. Gender equality is a guiding principle of the risk screening checklist (SRIF). It is mainstreamed throughout the safeguards and is also the focus of three specific questions in the SRIF | I62: n/a | J62: n/a
...

Sheet GP Compliance
C3: GENDER POLICY COMPLIANCE
C6: SECTION 1: QUALITY AT ENTRY [to be completed only at PPR1]
C8: Was an initial gender assessment conducted during the preparation of the project/programme's first submission as a full proposal? | E8: No, the AFCIA project includes USPs
C9: Does the results framework include gender-responsive indicators broken down at the different levels (objective, outcome, output)? | E9: Not at framework level, but at USP level, yes, monitoring and evaluation indicators on gender are defined for selected individual projects.
C11: List the gender-responsive elements that were incorporated in the project/programme results framework
C12: Gender-responsive element [1] | D12: Level [2] | E12: Indicator | F12: Baseline | G12: Target | H12: Rated result for the reporting period (poor, satisfactory, good)
C17: SECTION 2: QUALITY DURING IMPLEMENTATION AND AT EXIT [to be completed at final PPR]
C19: List gender equality and women's empowerment issues encountered during implementation of the project/programme. For each gender equality and women's empowerment issue describe the progress that was made as well as the results. [3]
C20: Gender equality and women's empowerment issues [4] | E20: Rated result for the reporting period (poor, satisfactory, good)
C21: No issues have been encountered as implementation of AFCIA TA micro-grant projects (USPs) have yet to start.
C25: SECTION 3: IMPLEMENTATION ARRANGEMENTS
C27: What arrangements have been put in place by the Implementing Entity during the reporting period to comply with the GP | E27: UNEP has ensured that gender equality is included among the selection criteria of the proposals selected by CTCN to be funded by AFCIA. In addition, Safeguards Risk Identification Forms (SRIF) have been developed following UNEP Environmental and Social Sustainability Framework (ESSF, approved in February 2020) and related guidance on Environmental and Social Safeguards and Stakeholder Response mechanisms. Gender equality is a guiding principle of UNEP screening checklist. It is mainstreamed throughout the safeguards but is also the center of three specific questions in the first section of the SRIF to ensure the project does not have unintended negative impacts on gender equality.
C28: Have the implementation arrangements at the IE been effective during the reporting period? | E28: Yes. Criteria on Gender equality and empowerment of vulnerable groups, including women and youth has been applied during the selection process of the submitted concept notes. The SRIF have been submitted and approved by UNEP for all projects funded by AFCIA and include low risk project with low risks related to gender. Projects entirely co-financed by AFCIA will develop thier SRIF during next reporting period
C29: What arrangements have been put in place by each Executing Entity during the reporting period to comply with the GP? [5] | E29: CTCN has robust gender procedures in place to mainstream gender from the early start of the discussion on the Technical Assistance (TA) requests and the design of project concept notes, through implementation and monitoring of impacts on gender equality and women empowerment. Key tools and procedures already in place and used in developing and implementing AFCIA TA micro/grant projects include: • CTCN screening and prioritization criteria applied to all TA assistance projects (including AFCIA projects), include a gender equality and women empowerment criteria, and are aligned with UNEP ESSF (criteria 6. The request promotes and demonstrates gender equality, and empowerment of vulnerable groups, including women and youth) • CTCN Gender Mainstreaming Tool is being used to develop the response plans and guide the design, implementation and moitoring of the TAs. The tool follows a 3-step approach: 1/Perform gender analysis; 2/Develop action plan; 3/Monitor and Evaluate. The goal is to support equal participation and ensure that both women and men benefit from the project and that ineauality is not perpetuated. • IPs/Network Members are required to report on gender indicators, and provide gender disaggregated data where applicable • IPs are further required to include in their proposals at least one gender expert and allocate a minimum of 1% of total budget to gender activities
C30: Have the implementation arrangements at the EE(s) been effective during the reporting period? [5] | E30: Yes, the implementation arrangements have been effective from October 2021 to October 2022. Criteria on Gender equality and empowerment of vulnerable groups, including women and youth has been applied during the selection process of the submitted concept notes. The profiles of experts requested for each and all selected TA under AFCIA include at least one local gender expert that will oversee the implementation of the project, and provide inputs to ensure that technologies deployed are gender responsive. Gender indicators are fully integrated as part of the first two TA's deliverables including the Monitoring and Evaluation report and the impact description and will be used to assess progress. Amongst these indicators, gender participation to meetings/ events / webinars / trainings / capacity building is monitored for example. For AFCIA projects, the list of indicators defined in the results tracker and disaggregated by gender is also monitored and estimated at the beginning and the end of each project.
C31: Have any capacity gaps affecting GP compliance been identified during the reporting period and if so, what remediation was implemented? | E31: No
C34: SECTION 4: GRIEVANCES
C36: Was a grievance mechanism established capable and known to stakeholders to accept grievances and complaints related to gender equality and women's empowerment? [to be completed at PPR1]
C37: List all grievances received through the grievance mechanism during the reporting period regarding gender-related matters of project/programme activities [6] | E37: No grievance has been received so far through the Grievance Redress Mechanism estalblished for AFCIA programme and linked to UNEP's established procedures

Sheet ESP and GP Guidance notes
C3: ESP and GP Guidance Notes
C5: ENVIRONMENTAL AND SOCIAL POLICY
C7: Reference | D7: Guidance
